BEGIN:VCALENDAR
VERSION:2.0
PRODID:-//Classic Rock 106.7 - ECPv5.6.0//NONSGML v1.0//EN
CALSCALE:GREGORIAN
METHOD:PUBLISH
X-WR-CALNAME:Classic Rock 106.7
X-ORIGINAL-URL:https://www.classicrock1067.fm
X-WR-CALDESC:Events for Classic Rock 106.7
BEGIN:VTIMEZONE
TZID:America/Chicago
BEGIN:DAYLIGHT
TZOFFSETFROM:-0600
TZOFFSETTO:-0500
TZNAME:CDT
DTSTART:20260308T080000
END:DAYLIGHT
BEGIN:STANDARD
TZOFFSETFROM:-0500
TZOFFSETTO:-0600
TZNAME:CST
DTSTART:20261101T070000
END:STANDARD
END:VTIMEZONE
BEGIN:VEVENT
DTSTART;TZID=America/Chicago:20260421T180000
DTEND;TZID=America/Chicago:20260421T203000
DTSTAMP:20260419T230409
CREATED:20260209T135348Z
LAST-MODIFIED:20260209T135359Z
UID:121157-1776794400-1776803400@www.classicrock1067.fm
SUMMARY:Read Between the Wines Book Club at The Vineyard Market
DESCRIPTION:April Book Club: The Route 66 Detective in Missouri \nTuesday\, April 21st \nTime: 6pm start. People often arrive by 5pm to settle in and grab a drink. \nWhat to expect:A Missouri themed night with creative cocktail and wine pairings. We will have discussion questions\, a small hands on activity\, and a suggested reading list for mystery lovers. The group is full of friendly faces and easy conversation. \nReserve your spot: Call us or sign up online.
URL:https://www.classicrock1067.fm/event/read-between-the-wines-book-club-at-the-vineyard-market-2/
LOCATION:The Vineyard Market\, 1759 W. State HWY J\, Ozark\, MO\, 65721\, United States
CATEGORIES:Community Calendar
ATTACH;FMTTYPE=image/png:https://dehayf5mhw1h7.cloudfront.net/wp-content/uploads/sites/1867/2026/02/09135348/4.png
GEO:37.0705618;-93.224836
X-APPLE-STRUCTURED-LOCATION;VALUE=URI;X-ADDRESS=The Vineyard Market 1759 W. State HWY J Ozark MO 65721 United States;X-APPLE-RADIUS=500;X-TITLE=1759 W. State HWY J:geo:-93.224836,37.0705618
END:VEVENT
BEGIN:VEVENT
DTSTART;TZID=America/Chicago:20260423T071500
DTEND;TZID=America/Chicago:20260423T083000
DTSTAMP:20260419T230409
CREATED:20260415T193342Z
LAST-MODIFIED:20260415T193822Z
UID:122122-1776928500-1776933000@www.classicrock1067.fm
SUMMARY:The Victim Center Breakfast of Hope
DESCRIPTION:The Victim Center will host its 31st annual Breakfast of Hope\, on April 23\,\n2026\, at 7:15 am\, at the White River Conference Center\, located at 600 W Sunshine St.\nThe Breakfast of Hope is a longstanding community event that brings together supporters\,\npartners\, and advocates to help sustain vital services for individuals affected by violent and\nsexual crimes in southwest Missouri. Guests will join together for breakfast\, hear stories from\nclients\, and learn how their involvement supports individuals and families of all ages throughout\nour community.
URL:https://www.classicrock1067.fm/event/the-victim-center-breakfast-of-hope/
LOCATION:White River Conference Center\, 600 W. Sunshine St.\, Springfield\, MO\, 65807\, United States
CATEGORIES:Community Calendar
ATTACH;FMTTYPE=image/png:https://dehayf5mhw1h7.cloudfront.net/wp-content/uploads/sites/1867/2026/04/15193342/breakfast-of-hope-graphic.png
ORGANIZER;CN="The%20Victim%20Center":MAILTO:hope@thevictimcenter.org
GEO:37.1810858;-93.2975239
X-APPLE-STRUCTURED-LOCATION;VALUE=URI;X-ADDRESS=White River Conference Center 600 W. Sunshine St. Springfield MO 65807 United States;X-APPLE-RADIUS=500;X-TITLE=600 W. Sunshine St.:geo:-93.2975239,37.1810858
END:VEVENT
BEGIN:VEVENT
DTSTART;TZID=America/Chicago:20260430T163000
DTEND;TZID=America/Chicago:20260430T230000
DTSTAMP:20260419T230409
CREATED:20260417T145601Z
LAST-MODIFIED:20260417T145622Z
UID:122158-1777566600-1777590000@www.classicrock1067.fm
SUMMARY:National Route 66 Centennial Kickoff Celebration Concert
DESCRIPTION:Springfield\, MO – the Birthplace of Route 66 – is proud to host the National Route 66 Centennial Kickoff Celebration\, a once-in-a-lifetime showcase of American music\, hometown pride\, and the open-road spirit that made Route 66 an icon of freedom and adventure.
URL:https://www.classicrock1067.fm/event/national-route-66-centennial-kickoff-celebration-concert/
LOCATION:Great Southern Bank Arena\, 685 S John Q Hammons Pkwy\, Springfield\, MO\, 65807\, United States
ATTACH;FMTTYPE=image/jpeg:https://dehayf5mhw1h7.cloudfront.net/wp-content/uploads/sites/1867/2026/04/17145601/concert-image.jpg
GEO:37.2020834;-93.2830665
X-APPLE-STRUCTURED-LOCATION;VALUE=URI;X-ADDRESS=Great Southern Bank Arena 685 S John Q Hammons Pkwy Springfield MO 65807 United States;X-APPLE-RADIUS=500;X-TITLE=685 S John Q Hammons Pkwy:geo:-93.2830665,37.2020834
END:VEVENT
BEGIN:VEVENT
DTSTART;TZID=America/Chicago:20260501T180000
DTEND;TZID=America/Chicago:20260501T220000
DTSTAMP:20260419T230409
CREATED:20260401T145056Z
LAST-MODIFIED:20260401T145115Z
UID:121913-1777658400-1777672800@www.classicrock1067.fm
SUMMARY:National Route 66 Centennial Kickoff Parade
DESCRIPTION:The Celebrate America on Route 66 Parade is happening Friday\, May 1st at 6pm! \nThe Route 66 parade brings the highway’s history to life with more than 100 classic\, vintage and iconic automobiles through the streets of Springfield! \nThis once-in-a-century parade promises to be one of the most exciting\, nostalgic\, and star-studded events to ever roll down the Mother road! \nIt’s free to view!
URL:https://www.classicrock1067.fm/event/national-route-66-centennial-kickoff-parade/
LOCATION:Downtown Springfield\, Springfield\, MO\, United States
CATEGORIES:Community Calendar,Event,Events
ATTACH;FMTTYPE=image/jpeg:https://dehayf5mhw1h7.cloudfront.net/wp-content/uploads/sites/1867/2026/04/01145056/631192971_918159554504023_1793490032473953252_n_058fdc35-b89e-212b-1e49c2b62d80c1f4_0590e9a5-02b4-53c3-9bf254efae0abf26.jpg
END:VEVENT
BEGIN:VEVENT
DTSTART;TZID=America/Chicago:20260502T100000
DTEND;TZID=America/Chicago:20260503T170000
DTSTAMP:20260419T230409
CREATED:20260401T145514Z
LAST-MODIFIED:20260401T145542Z
UID:121920-1777716000-1777827600@www.classicrock1067.fm
SUMMARY:Artsfest
DESCRIPTION:It’s a Springfield tradition! \nArtsfest is back on Historic Walnut Street May 2nd and 3rd! \nThere will be over 100 artists\, hands-on activities\, live art demos\, local shopping\, and delicious food from your favorite food trucks! \nAdmission is only $5 (5 and under free). \n 
URL:https://www.classicrock1067.fm/event/artsfest/
LOCATION:Historic Walnut Street
CATEGORIES:Community Calendar,Event,Events
ATTACH;FMTTYPE=image/jpeg:https://dehayf5mhw1h7.cloudfront.net/wp-content/uploads/sites/1867/2026/04/01145514/1_29b6800c-ddcd-68e8-b7c8a67acb95d1f5_29c4337d-e5db-adfb-92d1f0f2b274f4ae.jpg
END:VEVENT
BEGIN:VEVENT
DTSTART;TZID=America/Chicago:20260507T180000
DTEND;TZID=America/Chicago:20260507T210000
DTSTAMP:20260419T230409
CREATED:20260401T150135Z
LAST-MODIFIED:20260401T150147Z
UID:121925-1778176800-1778187600@www.classicrock1067.fm
SUMMARY:Taco De SOMO
DESCRIPTION:It’s Southern Missouri’s Premiere Taco competition! \nCelebrate your local restaurants and flavors at Taco De Somo\, Thursday May 7th from 6-9pm at Farmers Market of the Ozarks! \nThis culinary extravaganza will showcase the best and brightest restaurants\, food trucks and home cooks\, who are all competing for a shot at being the Taco Champion of SOMO! \nTickets are $35 in advance\, $45 the day of\, with proceeds going to help local families caring for loved ones with developmental disabilities.
URL:https://www.classicrock1067.fm/event/taco-de-somo/
LOCATION:Farmers Park of the Ozarks\, 2144 E. Republic Road
CATEGORIES:Community Calendar,Event,Events
END:VEVENT
BEGIN:VEVENT
DTSTART;TZID=America/Chicago:20260508T190000
DTEND;TZID=America/Chicago:20260508T220000
DTSTAMP:20260419T230409
CREATED:20251208T125659Z
LAST-MODIFIED:20251208T125659Z
UID:120324-1778266800-1778277600@www.classicrock1067.fm
SUMMARY:ZZ Top & Dwight Yoakam at Ozark Amp!
DESCRIPTION:Mark your calendar for the Dos Amigos Tour tour with ZZ Top and Dwight Yoakam! \nThe concert will be held on Friday\, May 08\, 2026. Music starts at 7:00 PM. \nThe Dos Amigos Tour will be held at the Ozarks Amphitheater in Camdenton\, MO! \nYou can find more information about this performance by CLICKING HERE!
URL:https://www.classicrock1067.fm/event/zz-top-dwight-yoakam-at-ozark-amp/
LOCATION:Ozarks Amphitheater\, 2629 N. Business Route 5\, Camdenton\, MO\, 65020\, United States
CATEGORIES:Community Calendar,Event,Events
ATTACH;FMTTYPE=image/png:https://dehayf5mhw1h7.cloudfront.net/wp-content/uploads/sites/1867/2025/12/08065607/zz-top-dwight-yoakam-dos-amigos-tour.png
END:VEVENT
BEGIN:VEVENT
DTSTART;TZID=America/Chicago:20260508T190000
DTEND;TZID=America/Chicago:20260508T230000
DTSTAMP:20260419T230409
CREATED:20251203T182700Z
LAST-MODIFIED:20251203T182722Z
UID:120270-1778266800-1778281200@www.classicrock1067.fm
SUMMARY:ZZ Top and Dwight Yoakam at Ozarks Amphitheater
DESCRIPTION:
URL:https://www.classicrock1067.fm/event/zz-top-and-dwight-yoakam-at-ozarks-amphitheater/
LOCATION:Ozarks Amphitheater\, 2629 N. Business Route 5\, Camdenton\, MO\, 65020\, United States
CATEGORIES:Concerts
ATTACH;FMTTYPE=image/png:https://dehayf5mhw1h7.cloudfront.net/wp-content/uploads/sites/1867/2025/12/03182700/zz-top-and-dwight-yoakam.png
END:VEVENT
BEGIN:VEVENT
DTSTART;TZID=America/Chicago:20260509T080000
DTEND;TZID=America/Chicago:20260509T150000
DTSTAMP:20260419T230409
CREATED:20260331T162228Z
LAST-MODIFIED:20260331T162228Z
UID:121888-1778313600-1778338800@www.classicrock1067.fm
SUMMARY:Angelman Strong 5K and All Abilities Walk
DESCRIPTION:Music and entertainment for all ages\, food trucks\, auction & raffle! \nLace up to run or join to stroll the stadium\, eat\, and play! All proceeds go to support the Angelman Syndrome Foundation. Get all the details and register HERE. \nangelman-strong-2026-flyer-2-1-1-1
URL:https://www.classicrock1067.fm/event/angelman-strong-5k-and-all-abilities-walk/
LOCATION:Nixa Hight School\, 514 S Nicholas Rd\, Nixa\, MO\, 65714
ATTACH;FMTTYPE=application/pdf:https://dehayf5mhw1h7.cloudfront.net/wp-content/uploads/sites/1867/2026/03/31112144/angelman-strong-2026-flyer-2-1-1-1-2.pdf
END:VEVENT
BEGIN:VEVENT
DTSTART;TZID=America/Chicago:20260509T190000
DTEND;TZID=America/Chicago:20260509T220000
DTSTAMP:20260419T230409
CREATED:20260112T171056Z
LAST-MODIFIED:20260112T171056Z
UID:120747-1778353200-1778364000@www.classicrock1067.fm
SUMMARY:Bush at the Ozark Amphitheater
DESCRIPTION:Bush will perform live at the Ozarks Amphitheater on Saturday\, May 9\, with special guests Mammoth and James & The Cold Gun. \nThe multi-platinum band\, known for hits like Glycerine\, Machinehead\, and Comedown\, continues to be a staple of modern rock\, delivering high-energy live performances for fans old and new. \nShow time is slated for 7 PM. \nYou can purchase tickets by clicking here.
URL:https://www.classicrock1067.fm/event/bush-at-the-ozark-amphitheater/
LOCATION:Ozarks Amphitheater\, 2629 N. Business Route 5\, Camdenton\, MO\, 65020\, United States
CATEGORIES:Community Calendar
ATTACH;FMTTYPE=image/jpeg:https://dehayf5mhw1h7.cloudfront.net/wp-content/uploads/sites/1867/2026/01/12110903/bush_ozarksamphitheater_1920x1080.jpg
END:VEVENT
BEGIN:VEVENT
DTSTART;TZID=America/Chicago:20260509T193000
DTEND;TZID=America/Chicago:20260509T213000
DTSTAMP:20260419T230409
CREATED:20251009T132152Z
LAST-MODIFIED:20251009T132206Z
UID:119530-1778355000-1778362200@www.classicrock1067.fm
SUMMARY:Springfield Symphony Orchestra - Cinderella
DESCRIPTION:Once upon a time\, in a world of shimmering melodies and wondrous dreams\, a tale of transformation\, love\, and a missing slipper unfolds in Prokofiev’s ballet\, Cinderella. \nWe are joined once again by the Saint Louis Ballet under the direction of Gen Horiuchi in this audience-favorite fairy tale. \nFrom romantic duets and dizzying waltzes to the silly antics of the loathsome stepsisters\, Cinderella is full of moments that charm and delight\, and you’ll be swept away in a dream come true at our stunning season finale. \nJust remember to be home by midnight!
URL:https://www.classicrock1067.fm/event/springfield-symphony-orchestra-cinderella/
LOCATION:Springfield Symphony Orchestra\, 411 N. Sherman PKWY\, Springfield\, MO\, MO\, United States
CATEGORIES:Community Calendar
ATTACH;FMTTYPE=image/jpeg:https://dehayf5mhw1h7.cloudfront.net/wp-content/uploads/sites/1867/2025/10/09132152/cinderella.jpg
END:VEVENT
BEGIN:VEVENT
DTSTART;TZID=America/Chicago:20260519T180000
DTEND;TZID=America/Chicago:20260519T203000
DTSTAMP:20260419T230409
CREATED:20260209T135633Z
LAST-MODIFIED:20260209T135644Z
UID:121160-1779213600-1779222600@www.classicrock1067.fm
SUMMARY:Read Between the Wines Book Club at The Vineyard Market
DESCRIPTION:May Book Club: Mistborn \nTuesday\, May 19th \nTime: 6pm start. The unofficial seat grabbing hour begins at 5pm. \nWhat to expect:Epic fantasy drinks\, discussion questions\, and a creative activity inspired by the world of Mistborn. We will also share a suggested reading list for fans of high fantasy. It is a fun\, easygoing group that loves a good story. \nReserve your spot: Call us or sign up online.
URL:https://www.classicrock1067.fm/event/read-between-the-wines-book-club-at-the-vineyard-market-3/
LOCATION:The Vineyard Market\, 1759 W. State HWY J\, Ozark\, MO\, 65721\, United States
CATEGORIES:Community Calendar
ATTACH;FMTTYPE=image/png:https://dehayf5mhw1h7.cloudfront.net/wp-content/uploads/sites/1867/2026/02/09135633/5.png
GEO:37.0705618;-93.224836
X-APPLE-STRUCTURED-LOCATION;VALUE=URI;X-ADDRESS=The Vineyard Market 1759 W. State HWY J Ozark MO 65721 United States;X-APPLE-RADIUS=500;X-TITLE=1759 W. State HWY J:geo:-93.224836,37.0705618
END:VEVENT
BEGIN:VEVENT
DTSTART;TZID=America/Chicago:20260519T180000
DTEND;TZID=America/Chicago:20260519T210000
DTSTAMP:20260419T230409
CREATED:20260410T110302Z
LAST-MODIFIED:20260410T110345Z
UID:122056-1779213600-1779224400@www.classicrock1067.fm
SUMMARY:Vitae Foundation Columbia Pro-Life Dinner with Brandon Tatum 
DESCRIPTION:The Vitae Foundation will host their annual Columbia pro-life dinner on Tuesday\, May 19th\, at the Stoney Creek Hotel. \nSocial hour will start at 6 PM and dinner will start at 7 PM. \nTickets are $100 per person and proceeds go to benefit the Vitae Foundation. \nThe guest speaker this year is Brandon Tatum. \nBrandon Tatum is a former Tucson police officer\, author\, host of the nationally syndicated podcast The Officer Tatum Show\, and co-founder of BLEXIT\, an organization meant to persuade the Black American population to join the Republican party. \nHe became one of the most dynamic conservative voices on social media after a video he shared garnered over 70 million views. \nBrandon has since made appearances on networks like Fox News\, and The Daily Wire\, and is a contributor to Turning Point USA. \nBrandon uses his platform to challenge narratives\, inspire critical thinking and encourage unity across the nation. \nFor more event information\, contact Jenn Hammann at events@vitaefoundation.org or 573.634.4316 ext. 224. \nFor more sponsorship information\, contact Stacey Kromer at stacey.kromer@vitaefoundation.org.
URL:https://www.classicrock1067.fm/event/vitae-foundation-columbia-pro-life-dinner-with-brandon-tatum/
LOCATION:Stoney Creek Hotel\, 2601 S Providence Rd\, Columbia\, MO\, 65203\, United States
ATTACH;FMTTYPE=image/png:https://dehayf5mhw1h7.cloudfront.net/wp-content/uploads/sites/1867/2026/04/10110302/2026-event-header-col-use.png
END:VEVENT
BEGIN:VEVENT
DTSTART;TZID=America/Chicago:20260519T180000
DTEND;TZID=America/Chicago:20260519T210000
DTSTAMP:20260419T230409
CREATED:20260410T110302Z
LAST-MODIFIED:20260410T110450Z
UID:122059-1779213600-1779224400@www.classicrock1067.fm
SUMMARY:Vitae Foundation Columbia Pro-Life Dinner with Brandon Tatum 
DESCRIPTION:The Vitae Foundation will host their annual Columbia pro-life dinner on Tuesday\, May 19th\, at the Stoney Creek Hotel. \nSocial hour will start at 6 PM and dinner will start at 7 PM. \nTickets are $100 per person and proceeds go to benefit the Vitae Foundation. \nThe guest speaker this year is Brandon Tatum. \nBrandon Tatum is a former Tucson police officer\, author\, host of the nationally syndicated podcast The Officer Tatum Show\, and co-founder of BLEXIT\, an organization meant to persuade the Black American population to join the Republican party. \nHe became one of the most dynamic conservative voices on social media after a video he shared garnered over 70 million views. \nBrandon has since made appearances on networks like Fox News\, and The Daily Wire\, and is a contributor to Turning Point USA. \nBrandon uses his platform to challenge narratives\, inspire critical thinking and encourage unity across the nation. \nFor more event information\, contact Jenn Hammann at events@vitaefoundation.org or 573.634.4316 ext. 224. \nFor more sponsorship information\, contact Stacey Kromer at stacey.kromer@vitaefoundation.org.
URL:https://www.classicrock1067.fm/event/vitae-foundation-columbia-pro-life-dinner-with-brandon-tatum-2/
LOCATION:Stoney Creek Hotel\, 2601 S Providence Rd\, Columbia\, MO\, 65203\, United States
CATEGORIES:Community Calendar
ATTACH;FMTTYPE=image/png:https://dehayf5mhw1h7.cloudfront.net/wp-content/uploads/sites/1867/2026/04/10110302/2026-event-header-col-use.png
END:VEVENT
BEGIN:VEVENT
DTSTART;TZID=America/Chicago:20260606T190000
DTEND;TZID=America/Chicago:20260606T223000
DTSTAMP:20260419T230409
CREATED:20260310T140033Z
LAST-MODIFIED:20260310T140104Z
UID:121570-1780772400-1780785000@www.classicrock1067.fm
SUMMARY:38 Special & Kansas at Black Oak Amp
DESCRIPTION:Classic rock fans won’t want to miss an unforgettable night as 38 Special and Kansas take the stage at Black Oak Amphitheater on Saturday\, June 6\, 2026. \nSet in the scenic Ozark Mountains near Table Rock Lake\, this outdoor venue will come alive with the timeless sounds of two legendary bands that helped define arena rock. \nThis high-energy show promises a night packed with legendary hits\, unforgettable guitar riffs\, and the kind of classic rock experience that fans have loved for decades. Grab your friends\, bring your love of great music\, and get ready for an incredible summer concert under the stars at Black Oak Amphitheater.
URL:https://www.classicrock1067.fm/event/38-special-kansas-at-black-oak-amp/
LOCATION:Black Oak Amphitheater\, 1728 State Highway H\, Lampe\, MO\, 65681\, United States
CATEGORIES:Community Calendar
ATTACH;FMTTYPE=image/jpeg:https://dehayf5mhw1h7.cloudfront.net/wp-content/uploads/sites/1867/2026/03/09141617/kansas_38special_blackoakamphitheater_1920x1080.jpg
END:VEVENT
BEGIN:VEVENT
DTSTART;TZID=America/Chicago:20260610T083000
DTEND;TZID=America/Chicago:20260613T220000
DTSTAMP:20260419T230409
CREATED:20260226T221146Z
LAST-MODIFIED:20260226T221325Z
UID:121425-1781080200-1781388000@www.classicrock1067.fm
SUMMARY:Jeep Branson 2026
DESCRIPTION:Jeep Branson is passionate about uniting one of the most vibrant and dynamic communities in the automotive world. Since the Jeep’s inception in 1941\, it has captured the spirit of adventure and camaraderie\, and this nonprofit organization is dedicated to celebrating that legacy. Learn more about Jeep Branson HERE. 
URL:https://www.classicrock1067.fm/event/jeep-branson-2026-2/
LOCATION:Branson\, Branson\, MO\, 65616
ATTACH;FMTTYPE=image/jpeg:https://dehayf5mhw1h7.cloudfront.net/wp-content/uploads/sites/1867/2026/02/26221146/jeep-branson-dates.jpg
END:VEVENT
BEGIN:VEVENT
DTSTART;TZID=America/Chicago:20260610T083000
DTEND;TZID=America/Chicago:20260613T220000
DTSTAMP:20260419T230409
CREATED:20260226T221146Z
LAST-MODIFIED:20260226T221217Z
UID:121422-1781080200-1781388000@www.classicrock1067.fm
SUMMARY:Jeep Branson 2026
DESCRIPTION:Jeep Branson is passionate about uniting one of the most vibrant and dynamic communities in the automotive world. Since the Jeep’s inception in 1941\, it has captured the spirit of adventure and camaraderie\, and this nonprofit organization is dedicated to celebrating that legacy. Learn more about Jeep Branson HERE. 
URL:https://www.classicrock1067.fm/event/jeep-branson-2026/
LOCATION:Branson\, Branson\, MO\, 65616
ATTACH;FMTTYPE=image/jpeg:https://dehayf5mhw1h7.cloudfront.net/wp-content/uploads/sites/1867/2026/02/26221146/jeep-branson-dates.jpg
END:VEVENT
BEGIN:VEVENT
DTSTART;TZID=America/Chicago:20260619T190000
DTEND;TZID=America/Chicago:20260619T223000
DTSTAMP:20260419T230409
CREATED:20260316T131500Z
LAST-MODIFIED:20260316T131519Z
UID:121675-1781895600-1781908200@www.classicrock1067.fm
SUMMARY:Little River Band at Black Oak Amp
DESCRIPTION:Classic rock fans\, get ready for an unforgettable night of legendary music! Little River Band and Ozark Mountain Daredevils are teaming up for a special show at the beautiful Black Oak Amphitheater. \nThe Little River Band has been delivering smooth harmonies and timeless hits for decades\, with classics like “Reminiscing\,” “Cool Change\,” and “Lonesome Loser.” Meanwhile\, Missouri’s own Ozark Mountain Daredevils bring their signature blend of country rock and Southern rock with fan favorites like “Jackie Blue” and “If You Wanna Get to Heaven.” \nSet in the scenic Ozark Mountains near Table Rock Lake\, Black Oak Amphitheater is one of the Midwest’s premier outdoor concert venues\, offering an incredible atmosphere for live music under the stars. \nThis concert will take place on Friday\, June 19th at 7 PM!
URL:https://www.classicrock1067.fm/event/little-river-band-at-black-oak-amp/
LOCATION:Black Oak Amphitheater\, 1728 State Highway H\, Lampe\, MO\, 65681\, United States
CATEGORIES:Community Calendar
ATTACH;FMTTYPE=image/jpeg:https://dehayf5mhw1h7.cloudfront.net/wp-content/uploads/sites/1867/2026/03/16131500/littleriverband_blackoakamphitheater_1080x1080-1.jpg
END:VEVENT
END:VCALENDAR